BEGIN:VCALENDAR
VERSION:2.0
PRODID:-//Bunch Of Grapes - ECPv6.15.18//NONSGML v1.0//EN
CALSCALE:GREGORIAN
METHOD:PUBLISH
X-WR-CALNAME:Bunch Of Grapes
X-ORIGINAL-URL:https://bunchofgrapespub.co.uk
X-WR-CALDESC:Events for Bunch Of Grapes
REFRESH-INTERVAL;VALUE=DURATION:PT1H
X-Robots-Tag:noindex
X-PUBLISHED-TTL:PT1H
BEGIN:VTIMEZONE
TZID:Europe/London
BEGIN:DAYLIGHT
TZOFFSETFROM:+0000
TZOFFSETTO:+0100
TZNAME:BST
DTSTART:20250330T010000
END:DAYLIGHT
BEGIN:STANDARD
TZOFFSETFROM:+0100
TZOFFSETTO:+0000
TZNAME:GMT
DTSTART:20251026T010000
END:STANDARD
BEGIN:DAYLIGHT
TZOFFSETFROM:+0000
TZOFFSETTO:+0100
TZNAME:BST
DTSTART:20260329T010000
END:DAYLIGHT
BEGIN:STANDARD
TZOFFSETFROM:+0100
TZOFFSETTO:+0000
TZNAME:GMT
DTSTART:20261025T010000
END:STANDARD
BEGIN:DAYLIGHT
TZOFFSETFROM:+0000
TZOFFSETTO:+0100
TZNAME:BST
DTSTART:20270328T010000
END:DAYLIGHT
BEGIN:STANDARD
TZOFFSETFROM:+0100
TZOFFSETTO:+0000
TZNAME:GMT
DTSTART:20271031T010000
END:STANDARD
END:VTIMEZONE
BEGIN:VEVENT
DTSTART;VALUE=DATE:20260421
DTEND;VALUE=DATE:20260422
DTSTAMP:20260420T181949
CREATED:20250711T105439Z
LAST-MODIFIED:20250711T111242Z
UID:10000305-1776729600-1776815999@bunchofgrapespub.co.uk
SUMMARY:Curry Tuesday
DESCRIPTION:Curry and a drink of your choice for only £10!\n\n\n\nChoice of chicken or vegan curry.
URL:https://bunchofgrapespub.co.uk/event/curry-tuesday/2026-04-21/
ATTACH;FMTTYPE=image/jpeg:https://bunchofgrapespub.co.uk/wp-content/uploads/2025/07/Curry-aspect-ratio-4-3.jpg
END:VEVENT
BEGIN:VEVENT
DTSTART;VALUE=DATE:20260428
DTEND;VALUE=DATE:20260429
DTSTAMP:20260420T181949
CREATED:20250711T105439Z
LAST-MODIFIED:20250711T111242Z
UID:10000306-1777334400-1777420799@bunchofgrapespub.co.uk
SUMMARY:Curry Tuesday
DESCRIPTION:Curry and a drink of your choice for only £10!\n\n\n\nChoice of chicken or vegan curry.
URL:https://bunchofgrapespub.co.uk/event/curry-tuesday/2026-04-28/
ATTACH;FMTTYPE=image/jpeg:https://bunchofgrapespub.co.uk/wp-content/uploads/2025/07/Curry-aspect-ratio-4-3.jpg
END:VEVENT
BEGIN:VEVENT
DTSTART;VALUE=DATE:20260505
DTEND;VALUE=DATE:20260506
DTSTAMP:20260420T181949
CREATED:20250711T105439Z
LAST-MODIFIED:20250711T111242Z
UID:10000307-1777939200-1778025599@bunchofgrapespub.co.uk
SUMMARY:Curry Tuesday
DESCRIPTION:Curry and a drink of your choice for only £10!\n\n\n\nChoice of chicken or vegan curry.
URL:https://bunchofgrapespub.co.uk/event/curry-tuesday/2026-05-05/
ATTACH;FMTTYPE=image/jpeg:https://bunchofgrapespub.co.uk/wp-content/uploads/2025/07/Curry-aspect-ratio-4-3.jpg
END:VEVENT
BEGIN:VEVENT
DTSTART;VALUE=DATE:20260512
DTEND;VALUE=DATE:20260513
DTSTAMP:20260420T181949
CREATED:20250711T105439Z
LAST-MODIFIED:20250711T111242Z
UID:10000308-1778544000-1778630399@bunchofgrapespub.co.uk
SUMMARY:Curry Tuesday
DESCRIPTION:Curry and a drink of your choice for only £10!\n\n\n\nChoice of chicken or vegan curry.
URL:https://bunchofgrapespub.co.uk/event/curry-tuesday/2026-05-12/
ATTACH;FMTTYPE=image/jpeg:https://bunchofgrapespub.co.uk/wp-content/uploads/2025/07/Curry-aspect-ratio-4-3.jpg
END:VEVENT
BEGIN:VEVENT
DTSTART;VALUE=DATE:20260519
DTEND;VALUE=DATE:20260520
DTSTAMP:20260420T181949
CREATED:20250711T105439Z
LAST-MODIFIED:20250711T111242Z
UID:10000309-1779148800-1779235199@bunchofgrapespub.co.uk
SUMMARY:Curry Tuesday
DESCRIPTION:Curry and a drink of your choice for only £10!\n\n\n\nChoice of chicken or vegan curry.
URL:https://bunchofgrapespub.co.uk/event/curry-tuesday/2026-05-19/
ATTACH;FMTTYPE=image/jpeg:https://bunchofgrapespub.co.uk/wp-content/uploads/2025/07/Curry-aspect-ratio-4-3.jpg
END:VEVENT
BEGIN:VEVENT
DTSTART;VALUE=DATE:20260526
DTEND;VALUE=DATE:20260527
DTSTAMP:20260420T181949
CREATED:20250711T105439Z
LAST-MODIFIED:20250711T111242Z
UID:10000310-1779753600-1779839999@bunchofgrapespub.co.uk
SUMMARY:Curry Tuesday
DESCRIPTION:Curry and a drink of your choice for only £10!\n\n\n\nChoice of chicken or vegan curry.
URL:https://bunchofgrapespub.co.uk/event/curry-tuesday/2026-05-26/
ATTACH;FMTTYPE=image/jpeg:https://bunchofgrapespub.co.uk/wp-content/uploads/2025/07/Curry-aspect-ratio-4-3.jpg
END:VEVENT
BEGIN:VEVENT
DTSTART;VALUE=DATE:20260602
DTEND;VALUE=DATE:20260603
DTSTAMP:20260420T181949
CREATED:20250711T105439Z
LAST-MODIFIED:20250711T111242Z
UID:10000311-1780358400-1780444799@bunchofgrapespub.co.uk
SUMMARY:Curry Tuesday
DESCRIPTION:Curry and a drink of your choice for only £10!\n\n\n\nChoice of chicken or vegan curry.
URL:https://bunchofgrapespub.co.uk/event/curry-tuesday/2026-06-02/
ATTACH;FMTTYPE=image/jpeg:https://bunchofgrapespub.co.uk/wp-content/uploads/2025/07/Curry-aspect-ratio-4-3.jpg
END:VEVENT
BEGIN:VEVENT
DTSTART;VALUE=DATE:20260609
DTEND;VALUE=DATE:20260610
DTSTAMP:20260420T181949
CREATED:20250711T105439Z
LAST-MODIFIED:20250711T111242Z
UID:10000312-1780963200-1781049599@bunchofgrapespub.co.uk
SUMMARY:Curry Tuesday
DESCRIPTION:Curry and a drink of your choice for only £10!\n\n\n\nChoice of chicken or vegan curry.
URL:https://bunchofgrapespub.co.uk/event/curry-tuesday/2026-06-09/
ATTACH;FMTTYPE=image/jpeg:https://bunchofgrapespub.co.uk/wp-content/uploads/2025/07/Curry-aspect-ratio-4-3.jpg
END:VEVENT
BEGIN:VEVENT
DTSTART;VALUE=DATE:20260616
DTEND;VALUE=DATE:20260617
DTSTAMP:20260420T181949
CREATED:20250711T105439Z
LAST-MODIFIED:20250711T111242Z
UID:10000313-1781568000-1781654399@bunchofgrapespub.co.uk
SUMMARY:Curry Tuesday
DESCRIPTION:Curry and a drink of your choice for only £10!\n\n\n\nChoice of chicken or vegan curry.
URL:https://bunchofgrapespub.co.uk/event/curry-tuesday/2026-06-16/
ATTACH;FMTTYPE=image/jpeg:https://bunchofgrapespub.co.uk/wp-content/uploads/2025/07/Curry-aspect-ratio-4-3.jpg
END:VEVENT
BEGIN:VEVENT
DTSTART;VALUE=DATE:20260623
DTEND;VALUE=DATE:20260624
DTSTAMP:20260420T181949
CREATED:20250711T105439Z
LAST-MODIFIED:20250711T111242Z
UID:10000314-1782172800-1782259199@bunchofgrapespub.co.uk
SUMMARY:Curry Tuesday
DESCRIPTION:Curry and a drink of your choice for only £10!\n\n\n\nChoice of chicken or vegan curry.
URL:https://bunchofgrapespub.co.uk/event/curry-tuesday/2026-06-23/
ATTACH;FMTTYPE=image/jpeg:https://bunchofgrapespub.co.uk/wp-content/uploads/2025/07/Curry-aspect-ratio-4-3.jpg
END:VEVENT
BEGIN:VEVENT
DTSTART;VALUE=DATE:20260630
DTEND;VALUE=DATE:20260701
DTSTAMP:20260420T181949
CREATED:20250711T105439Z
LAST-MODIFIED:20250711T111242Z
UID:10000315-1782777600-1782863999@bunchofgrapespub.co.uk
SUMMARY:Curry Tuesday
DESCRIPTION:Curry and a drink of your choice for only £10!\n\n\n\nChoice of chicken or vegan curry.
URL:https://bunchofgrapespub.co.uk/event/curry-tuesday/2026-06-30/
ATTACH;FMTTYPE=image/jpeg:https://bunchofgrapespub.co.uk/wp-content/uploads/2025/07/Curry-aspect-ratio-4-3.jpg
END:VEVENT
BEGIN:VEVENT
DTSTART;VALUE=DATE:20260707
DTEND;VALUE=DATE:20260708
DTSTAMP:20260420T181949
CREATED:20250711T105439Z
LAST-MODIFIED:20250711T111242Z
UID:10000316-1783382400-1783468799@bunchofgrapespub.co.uk
SUMMARY:Curry Tuesday
DESCRIPTION:Curry and a drink of your choice for only £10!\n\n\n\nChoice of chicken or vegan curry.
URL:https://bunchofgrapespub.co.uk/event/curry-tuesday/2026-07-07/
ATTACH;FMTTYPE=image/jpeg:https://bunchofgrapespub.co.uk/wp-content/uploads/2025/07/Curry-aspect-ratio-4-3.jpg
END:VEVENT
BEGIN:VEVENT
DTSTART;VALUE=DATE:20260714
DTEND;VALUE=DATE:20260715
DTSTAMP:20260420T181949
CREATED:20250711T105439Z
LAST-MODIFIED:20250711T111242Z
UID:10000317-1783987200-1784073599@bunchofgrapespub.co.uk
SUMMARY:Curry Tuesday
DESCRIPTION:Curry and a drink of your choice for only £10!\n\n\n\nChoice of chicken or vegan curry.
URL:https://bunchofgrapespub.co.uk/event/curry-tuesday/2026-07-14/
ATTACH;FMTTYPE=image/jpeg:https://bunchofgrapespub.co.uk/wp-content/uploads/2025/07/Curry-aspect-ratio-4-3.jpg
END:VEVENT
BEGIN:VEVENT
DTSTART;VALUE=DATE:20260721
DTEND;VALUE=DATE:20260722
DTSTAMP:20260420T181949
CREATED:20250711T105439Z
LAST-MODIFIED:20250711T111242Z
UID:10000318-1784592000-1784678399@bunchofgrapespub.co.uk
SUMMARY:Curry Tuesday
DESCRIPTION:Curry and a drink of your choice for only £10!\n\n\n\nChoice of chicken or vegan curry.
URL:https://bunchofgrapespub.co.uk/event/curry-tuesday/2026-07-21/
ATTACH;FMTTYPE=image/jpeg:https://bunchofgrapespub.co.uk/wp-content/uploads/2025/07/Curry-aspect-ratio-4-3.jpg
END:VEVENT
BEGIN:VEVENT
DTSTART;VALUE=DATE:20260728
DTEND;VALUE=DATE:20260729
DTSTAMP:20260420T181949
CREATED:20250711T105439Z
LAST-MODIFIED:20250711T111242Z
UID:10000319-1785196800-1785283199@bunchofgrapespub.co.uk
SUMMARY:Curry Tuesday
DESCRIPTION:Curry and a drink of your choice for only £10!\n\n\n\nChoice of chicken or vegan curry.
URL:https://bunchofgrapespub.co.uk/event/curry-tuesday/2026-07-28/
ATTACH;FMTTYPE=image/jpeg:https://bunchofgrapespub.co.uk/wp-content/uploads/2025/07/Curry-aspect-ratio-4-3.jpg
END:VEVENT
BEGIN:VEVENT
DTSTART;VALUE=DATE:20260804
DTEND;VALUE=DATE:20260805
DTSTAMP:20260420T181949
CREATED:20250711T105439Z
LAST-MODIFIED:20250711T111242Z
UID:10000320-1785801600-1785887999@bunchofgrapespub.co.uk
SUMMARY:Curry Tuesday
DESCRIPTION:Curry and a drink of your choice for only £10!\n\n\n\nChoice of chicken or vegan curry.
URL:https://bunchofgrapespub.co.uk/event/curry-tuesday/2026-08-04/
ATTACH;FMTTYPE=image/jpeg:https://bunchofgrapespub.co.uk/wp-content/uploads/2025/07/Curry-aspect-ratio-4-3.jpg
END:VEVENT
BEGIN:VEVENT
DTSTART;VALUE=DATE:20260811
DTEND;VALUE=DATE:20260812
DTSTAMP:20260420T181949
CREATED:20250711T105439Z
LAST-MODIFIED:20250711T111242Z
UID:10000321-1786406400-1786492799@bunchofgrapespub.co.uk
SUMMARY:Curry Tuesday
DESCRIPTION:Curry and a drink of your choice for only £10!\n\n\n\nChoice of chicken or vegan curry.
URL:https://bunchofgrapespub.co.uk/event/curry-tuesday/2026-08-11/
ATTACH;FMTTYPE=image/jpeg:https://bunchofgrapespub.co.uk/wp-content/uploads/2025/07/Curry-aspect-ratio-4-3.jpg
END:VEVENT
BEGIN:VEVENT
DTSTART;VALUE=DATE:20260818
DTEND;VALUE=DATE:20260819
DTSTAMP:20260420T181949
CREATED:20250711T105439Z
LAST-MODIFIED:20250711T111242Z
UID:10000322-1787011200-1787097599@bunchofgrapespub.co.uk
SUMMARY:Curry Tuesday
DESCRIPTION:Curry and a drink of your choice for only £10!\n\n\n\nChoice of chicken or vegan curry.
URL:https://bunchofgrapespub.co.uk/event/curry-tuesday/2026-08-18/
ATTACH;FMTTYPE=image/jpeg:https://bunchofgrapespub.co.uk/wp-content/uploads/2025/07/Curry-aspect-ratio-4-3.jpg
END:VEVENT
BEGIN:VEVENT
DTSTART;VALUE=DATE:20260825
DTEND;VALUE=DATE:20260826
DTSTAMP:20260420T181949
CREATED:20250711T105439Z
LAST-MODIFIED:20250711T111242Z
UID:10000323-1787616000-1787702399@bunchofgrapespub.co.uk
SUMMARY:Curry Tuesday
DESCRIPTION:Curry and a drink of your choice for only £10!\n\n\n\nChoice of chicken or vegan curry.
URL:https://bunchofgrapespub.co.uk/event/curry-tuesday/2026-08-25/
ATTACH;FMTTYPE=image/jpeg:https://bunchofgrapespub.co.uk/wp-content/uploads/2025/07/Curry-aspect-ratio-4-3.jpg
END:VEVENT
BEGIN:VEVENT
DTSTART;VALUE=DATE:20260901
DTEND;VALUE=DATE:20260902
DTSTAMP:20260420T181949
CREATED:20250711T105439Z
LAST-MODIFIED:20250711T111242Z
UID:10000324-1788220800-1788307199@bunchofgrapespub.co.uk
SUMMARY:Curry Tuesday
DESCRIPTION:Curry and a drink of your choice for only £10!\n\n\n\nChoice of chicken or vegan curry.
URL:https://bunchofgrapespub.co.uk/event/curry-tuesday/2026-09-01/
ATTACH;FMTTYPE=image/jpeg:https://bunchofgrapespub.co.uk/wp-content/uploads/2025/07/Curry-aspect-ratio-4-3.jpg
END:VEVENT
BEGIN:VEVENT
DTSTART;VALUE=DATE:20260908
DTEND;VALUE=DATE:20260909
DTSTAMP:20260420T181949
CREATED:20250711T105439Z
LAST-MODIFIED:20250711T111242Z
UID:10000325-1788825600-1788911999@bunchofgrapespub.co.uk
SUMMARY:Curry Tuesday
DESCRIPTION:Curry and a drink of your choice for only £10!\n\n\n\nChoice of chicken or vegan curry.
URL:https://bunchofgrapespub.co.uk/event/curry-tuesday/2026-09-08/
ATTACH;FMTTYPE=image/jpeg:https://bunchofgrapespub.co.uk/wp-content/uploads/2025/07/Curry-aspect-ratio-4-3.jpg
END:VEVENT
BEGIN:VEVENT
DTSTART;VALUE=DATE:20260915
DTEND;VALUE=DATE:20260916
DTSTAMP:20260420T181949
CREATED:20250711T105439Z
LAST-MODIFIED:20250711T111242Z
UID:10000326-1789430400-1789516799@bunchofgrapespub.co.uk
SUMMARY:Curry Tuesday
DESCRIPTION:Curry and a drink of your choice for only £10!\n\n\n\nChoice of chicken or vegan curry.
URL:https://bunchofgrapespub.co.uk/event/curry-tuesday/2026-09-15/
ATTACH;FMTTYPE=image/jpeg:https://bunchofgrapespub.co.uk/wp-content/uploads/2025/07/Curry-aspect-ratio-4-3.jpg
END:VEVENT
BEGIN:VEVENT
DTSTART;VALUE=DATE:20260922
DTEND;VALUE=DATE:20260923
DTSTAMP:20260420T181949
CREATED:20250711T105439Z
LAST-MODIFIED:20250711T111242Z
UID:10000327-1790035200-1790121599@bunchofgrapespub.co.uk
SUMMARY:Curry Tuesday
DESCRIPTION:Curry and a drink of your choice for only £10!\n\n\n\nChoice of chicken or vegan curry.
URL:https://bunchofgrapespub.co.uk/event/curry-tuesday/2026-09-22/
ATTACH;FMTTYPE=image/jpeg:https://bunchofgrapespub.co.uk/wp-content/uploads/2025/07/Curry-aspect-ratio-4-3.jpg
END:VEVENT
BEGIN:VEVENT
DTSTART;VALUE=DATE:20260929
DTEND;VALUE=DATE:20260930
DTSTAMP:20260420T181949
CREATED:20250711T105439Z
LAST-MODIFIED:20250711T111242Z
UID:10000328-1790640000-1790726399@bunchofgrapespub.co.uk
SUMMARY:Curry Tuesday
DESCRIPTION:Curry and a drink of your choice for only £10!\n\n\n\nChoice of chicken or vegan curry.
URL:https://bunchofgrapespub.co.uk/event/curry-tuesday/2026-09-29/
ATTACH;FMTTYPE=image/jpeg:https://bunchofgrapespub.co.uk/wp-content/uploads/2025/07/Curry-aspect-ratio-4-3.jpg
END:VEVENT
BEGIN:VEVENT
DTSTART;VALUE=DATE:20261006
DTEND;VALUE=DATE:20261007
DTSTAMP:20260420T181949
CREATED:20250711T105439Z
LAST-MODIFIED:20250711T111242Z
UID:10000329-1791244800-1791331199@bunchofgrapespub.co.uk
SUMMARY:Curry Tuesday
DESCRIPTION:Curry and a drink of your choice for only £10!\n\n\n\nChoice of chicken or vegan curry.
URL:https://bunchofgrapespub.co.uk/event/curry-tuesday/2026-10-06/
ATTACH;FMTTYPE=image/jpeg:https://bunchofgrapespub.co.uk/wp-content/uploads/2025/07/Curry-aspect-ratio-4-3.jpg
END:VEVENT
BEGIN:VEVENT
DTSTART;VALUE=DATE:20261013
DTEND;VALUE=DATE:20261014
DTSTAMP:20260420T181949
CREATED:20250711T105439Z
LAST-MODIFIED:20250711T111242Z
UID:10000330-1791849600-1791935999@bunchofgrapespub.co.uk
SUMMARY:Curry Tuesday
DESCRIPTION:Curry and a drink of your choice for only £10!\n\n\n\nChoice of chicken or vegan curry.
URL:https://bunchofgrapespub.co.uk/event/curry-tuesday/2026-10-13/
ATTACH;FMTTYPE=image/jpeg:https://bunchofgrapespub.co.uk/wp-content/uploads/2025/07/Curry-aspect-ratio-4-3.jpg
END:VEVENT
BEGIN:VEVENT
DTSTART;VALUE=DATE:20261020
DTEND;VALUE=DATE:20261021
DTSTAMP:20260420T181949
CREATED:20250711T105439Z
LAST-MODIFIED:20250711T111242Z
UID:10000331-1792454400-1792540799@bunchofgrapespub.co.uk
SUMMARY:Curry Tuesday
DESCRIPTION:Curry and a drink of your choice for only £10!\n\n\n\nChoice of chicken or vegan curry.
URL:https://bunchofgrapespub.co.uk/event/curry-tuesday/2026-10-20/
ATTACH;FMTTYPE=image/jpeg:https://bunchofgrapespub.co.uk/wp-content/uploads/2025/07/Curry-aspect-ratio-4-3.jpg
END:VEVENT
BEGIN:VEVENT
DTSTART;VALUE=DATE:20261027
DTEND;VALUE=DATE:20261028
DTSTAMP:20260420T181949
CREATED:20250711T105439Z
LAST-MODIFIED:20250711T111242Z
UID:10000332-1793059200-1793145599@bunchofgrapespub.co.uk
SUMMARY:Curry Tuesday
DESCRIPTION:Curry and a drink of your choice for only £10!\n\n\n\nChoice of chicken or vegan curry.
URL:https://bunchofgrapespub.co.uk/event/curry-tuesday/2026-10-27/
ATTACH;FMTTYPE=image/jpeg:https://bunchofgrapespub.co.uk/wp-content/uploads/2025/07/Curry-aspect-ratio-4-3.jpg
END:VEVENT
BEGIN:VEVENT
DTSTART;VALUE=DATE:20261103
DTEND;VALUE=DATE:20261104
DTSTAMP:20260420T181949
CREATED:20250711T105439Z
LAST-MODIFIED:20250711T111242Z
UID:10000333-1793664000-1793750399@bunchofgrapespub.co.uk
SUMMARY:Curry Tuesday
DESCRIPTION:Curry and a drink of your choice for only £10!\n\n\n\nChoice of chicken or vegan curry.
URL:https://bunchofgrapespub.co.uk/event/curry-tuesday/2026-11-03/
ATTACH;FMTTYPE=image/jpeg:https://bunchofgrapespub.co.uk/wp-content/uploads/2025/07/Curry-aspect-ratio-4-3.jpg
END:VEVENT
BEGIN:VEVENT
DTSTART;VALUE=DATE:20261110
DTEND;VALUE=DATE:20261111
DTSTAMP:20260420T181949
CREATED:20250711T105439Z
LAST-MODIFIED:20250711T111242Z
UID:10000334-1794268800-1794355199@bunchofgrapespub.co.uk
SUMMARY:Curry Tuesday
DESCRIPTION:Curry and a drink of your choice for only £10!\n\n\n\nChoice of chicken or vegan curry.
URL:https://bunchofgrapespub.co.uk/event/curry-tuesday/2026-11-10/
ATTACH;FMTTYPE=image/jpeg:https://bunchofgrapespub.co.uk/wp-content/uploads/2025/07/Curry-aspect-ratio-4-3.jpg
END:VEVENT
END:VCALENDAR